﻿

BEGIN:VCALENDAR
VERSION:2.0
PRODID:-//TECHMAGHI - ECPv6.9.0//NONSGML v1.0//EN
CALSCALE:GREGORIAN
METHOD:PUBLISH
X-ORIGINAL-URL:https://techmaghi.com
X-WR-CALDESC:Events for TECHMAGHI
REFRESH-INTERVAL;VALUE=DURATION:PT1H
X-Robots-Tag:noindex
X-PUBLISHED-TTL:PT1H
BEGIN:VTIMEZONE
TZID:UTC
BEGIN:STANDARD
TZOFFSETFROM:+0000
TZOFFSETTO:+0000
TZNAME:UTC
DTSTART:20240101T000000
END:STANDARD
END:VTIMEZONE
BEGIN:VEVENT
DTSTART;VALUE=DATE:20240220
DTEND;VALUE=DATE:20240225
DTSTAMP:20260422T091906
CREATED:20240104T141010Z
LAST-MODIFIED:20240111T070818Z
UID:3862-1708387200-1708819199@techmaghi.com
SUMMARY:5 DAY INTERNSHIP PROGRAM ON ROBOTICS WITH ARTIFICIAL INTELLIGENCE
DESCRIPTION:  \n \nRegister Here: https://cutt.ly/KXTsy0p
URL:https://techmaghi.com/event/5-day-internship-program-on-robotics-with-artificial-intelligence/
LOCATION:Kerala Startup Mission\,Kalamassery
ATTACH;FMTTYPE=image/png:https://techmaghi.com/wp-content/uploads/2024/01/ROBO2.png
END:VEVENT
BEGIN:VEVENT
DTSTART;VALUE=DATE:20240220
DTEND;VALUE=DATE:20240225
DTSTAMP:20260422T091906
CREATED:20240106T060152Z
LAST-MODIFIED:20240110T151245Z
UID:3872-1708387200-1708819199@techmaghi.com
SUMMARY:5 DAY INTERNSHIP PROGRAM ON INTERIOR DESIGN WITH VR EXPERIENCE
DESCRIPTION:  \n  \n \nRegister Here: https://cutt.ly/KXTsy0p
URL:https://techmaghi.com/event/5-day-internship-program-on-interior-design-with-vr-experience/
LOCATION:Kerala Startup Mission\,Kalamassery
ATTACH;FMTTYPE=image/png:https://techmaghi.com/wp-content/uploads/2024/01/1-5.png
END:VEVENT
END:VCALENDAR