﻿

BEGIN:VCALENDAR
VERSION:2.0
PRODID:-//TECHMAGHI - ECPv6.9.0//NONSGML v1.0//EN
CALSCALE:GREGORIAN
METHOD:PUBLISH
X-WR-CALNAME:TECHMAGHI
X-ORIGINAL-URL:https://techmaghi.com
X-WR-CALDESC:Events for TECHMAGHI
REFRESH-INTERVAL;VALUE=DURATION:PT1H
X-Robots-Tag:noindex
X-PUBLISHED-TTL:PT1H
BEGIN:VTIMEZONE
TZID:UTC
BEGIN:STANDARD
TZOFFSETFROM:+0000
TZOFFSETTO:+0000
TZNAME:UTC
DTSTART:20250101T000000
END:STANDARD
END:VTIMEZONE
BEGIN:VEVENT
DTSTART;VALUE=DATE:20250308
DTEND;VALUE=DATE:20250310
DTSTAMP:20260424T153927
CREATED:20250222T091235Z
LAST-MODIFIED:20250222T120859Z
UID:4780-1741392000-1741564799@techmaghi.com
SUMMARY:ELAN & NVISION IIT HYDERABAD- 2 DAY WORKSHOP ON PYTHON WITH AI
DESCRIPTION:  \nGrab your Seat: https://techmaghi.com/techmaghi-workshop-series/
URL:https://techmaghi.com/event/elan-nvision-iit-hyderabad-2-day-workshop-on-python-with-ai/
ATTACH;FMTTYPE=image/png:https://techmaghi.com/wp-content/uploads/2025/02/Python-with-Ai-Post.png
END:VEVENT
END:VCALENDAR