﻿

BEGIN:VCALENDAR
VERSION:2.0
PRODID:-//TECHMAGHI - ECPv6.9.0//NONSGML v1.0//EN
CALSCALE:GREGORIAN
METHOD:PUBLISH
X-WR-CALNAME:TECHMAGHI
X-ORIGINAL-URL:https://techmaghi.com
X-WR-CALDESC:Events for TECHMAGHI
REFRESH-INTERVAL;VALUE=DURATION:PT1H
X-Robots-Tag:noindex
X-PUBLISHED-TTL:PT1H
BEGIN:VTIMEZONE
TZID:UTC
BEGIN:STANDARD
TZOFFSETFROM:+0000
TZOFFSETTO:+0000
TZNAME:UTC
DTSTART:20250101T000000
END:STANDARD
END:VTIMEZONE
BEGIN:VEVENT
DTSTART;VALUE=DATE:20250112
DTEND;VALUE=DATE:20250118
DTSTAMP:20260422T174916
CREATED:20241204T063015Z
LAST-MODIFIED:20241204T063015Z
UID:4293-1736640000-1737158399@techmaghi.com
SUMMARY:6 DAYS INTERNSHIP ON CYBER SECURITY AND ETHICAL HACKING
DESCRIPTION:
URL:https://techmaghi.com/event/6-days-internship-on-cyber-security-and-ethical-hacking/
LOCATION:Kochi\, India
ATTACH;FMTTYPE=image/png:https://techmaghi.com/wp-content/uploads/2024/12/Cyber-Security.png
END:VEVENT
BEGIN:VEVENT
DTSTART;VALUE=DATE:20250112
DTEND;VALUE=DATE:20250118
DTSTAMP:20260422T174916
CREATED:20241204T064016Z
LAST-MODIFIED:20241204T064333Z
UID:4301-1736640000-1737158399@techmaghi.com
SUMMARY:6 DAYS INTERNSHIP ON CYBER SECURITY AND ETHICAL HACKING
DESCRIPTION:Register Here: https://cutt.ly/KXTsy0p
URL:https://techmaghi.com/event/6-days-internship-on-cyber-security-and-ethical-hacking-2/
LOCATION:Kochi\, India
ATTACH;FMTTYPE=image/png:https://techmaghi.com/wp-content/uploads/2024/12/Cyber-Security.png
END:VEVENT
BEGIN:VEVENT
DTSTART;VALUE=DATE:20250113
DTEND;VALUE=DATE:20250119
DTSTAMP:20260422T174916
CREATED:20241130T140949Z
LAST-MODIFIED:20241130T140949Z
UID:4282-1736726400-1737244799@techmaghi.com
SUMMARY:6 DAYS ENGINE MANAGEMENT AND TUNING INTERNSHIP
DESCRIPTION:6-Day Engine Management and Tuning Internship \nStep into the fascinating world of automotive technology with our 6-Day Engine Management and Tuning Internship. Designed for car enthusiasts and aspiring automotive professionals\, this hands-on program dives deep into the principles of modern engine management systems. \nYou’ll start with the foundations of engine mechanics and control systems\, gaining a solid understanding of how engines operate. The program then explores air-fuel ratios\, combustion\, and spark theory\, giving you insights into the science behind optimizing engine performance. Learn about automotive sensors and driving conditions and how they influence engine behavior under different scenarios. Delve into control strategies and ECU basics\, uncovering the heart of engine management systems\, and finish with advanced tuning techniques and practical applications\, where you’ll use cutting-edge tools to enhance engine efficiency and power. \nWhether you’re a beginner or looking to refine your skills\, this internship provides practical knowledge and real-world expertise. Don’t miss your chance to unlock new opportunities in the automotive industry—enroll now! \nRegister Here: https://cutt.ly/KXTsy0p
URL:https://techmaghi.com/event/6-days-engine-management-and-tuning-internship/
LOCATION:Kochi\, India
ATTACH;FMTTYPE=image/png:https://techmaghi.com/wp-content/uploads/2024/11/ECU-Internship-Launch-1.png
END:VEVENT
END:VCALENDAR